BEGIN:VCALENDAR
VERSION:2.0
PRODID:-//CTBigHome.com - ECPv6.15.20//NONSGML v1.0//EN
CALSCALE:GREGORIAN
METHOD:PUBLISH
X-WR-CALNAME:CTBigHome.com
X-ORIGINAL-URL:https://ctbighome.com
X-WR-CALDESC:Events for CTBigHome.com
REFRESH-INTERVAL;VALUE=DURATION:PT1H
X-Robots-Tag:noindex
X-PUBLISHED-TTL:PT1H
BEGIN:VTIMEZONE
TZID:America/New_York
BEGIN:DAYLIGHT
TZOFFSETFROM:-0500
TZOFFSETTO:-0400
TZNAME:EDT
DTSTART:20240310T070000
END:DAYLIGHT
BEGIN:STANDARD
TZOFFSETFROM:-0400
TZOFFSETTO:-0500
TZNAME:EST
DTSTART:20241103T060000
END:STANDARD
BEGIN:DAYLIGHT
TZOFFSETFROM:-0500
TZOFFSETTO:-0400
TZNAME:EDT
DTSTART:20250309T070000
END:DAYLIGHT
BEGIN:STANDARD
TZOFFSETFROM:-0400
TZOFFSETTO:-0500
TZNAME:EST
DTSTART:20251102T060000
END:STANDARD
BEGIN:DAYLIGHT
TZOFFSETFROM:-0500
TZOFFSETTO:-0400
TZNAME:EDT
DTSTART:20260308T070000
END:DAYLIGHT
BEGIN:STANDARD
TZOFFSETFROM:-0400
TZOFFSETTO:-0500
TZNAME:EST
DTSTART:20261101T060000
END:STANDARD
END:VTIMEZONE
BEGIN:VEVENT
DTSTART;TZID=America/New_York:20250330T140000
DTEND;TZID=America/New_York:20250330T153000
DTSTAMP:20260423T221815
CREATED:20250317T175501Z
LAST-MODIFIED:20250317T175501Z
UID:183-1743343200-1743348600@ctbighome.com
SUMMARY:Children's Acorn Adventures - Bird Eggs
DESCRIPTION:The Last Green Valley Acorn Adventure for Families: Excellent Eggs \n\n\n\n\n\n\nWhen: 3/30/2025 @ 2:00 pm \n\n\n\n\n\n\nEggs are excellent! Some are large\, some are tiny\, some are blue and others are speckled. Many kinds of critters are born by hatching from an egg here in The Last Green Valley National Heritage Corridor. Join TLGV Ranger Emma MacDonald and Volunteer Ranger Christie Hazen to learn about the different kinds of eggs we have here and the animals that lay them. We’ll also learn about how animals protect their eggs and how the babies inside get out. This is a hands-on program and you’ll get to meet some live critters who hatch out of eggs! This program is rain or shine and will be held at the Patriots Park Pavilion. Acorn adventures are always free thanks to the generous sponsorship of Centerville Bank. Hosted by The Last Green Valley \n\n\n\n\n\n\nWebsite: http://www..thelastgreenvalley.org \n\n\n\n\n\n\nPhone: 860-774-3300
URL:https://ctbighome.com/event/childrens-acorn-adventures-bird-eggs/
END:VEVENT
BEGIN:VEVENT
DTSTART;TZID=America/New_York:20250329T080000
DTEND;TZID=America/New_York:20250329T120000
DTSTAMP:20260423T221815
CREATED:20250325T002058Z
LAST-MODIFIED:20250325T002058Z
UID:236-1743235200-1743249600@ctbighome.com
SUMMARY:New Haven Bird Clun Fieldtrip - Cheshire
DESCRIPTION:Field Trip – Cheshire Hotspots – Melissa Baston\nMarch 29 @ 8:00 am – 12:00 pm at Broad Brook Reservoir\, Cheshire \nA new addition to the calendar! Join us for an early spring exploration of several birding hotspots in Cheshire. We’ll begin at Broad Brook Reservoir to check for waterfowl\, along with overwintering songbirds and raptors and possible early arriving migrants around the reservoir.
URL:https://ctbighome.com/event/new-haven-bird-clun-fieldtrip-cheshire/
END:VEVENT
BEGIN:VEVENT
DTSTART;TZID=America/New_York:20250328T180000
DTEND;TZID=America/New_York:20250328T210000
DTSTAMP:20260423T221815
CREATED:20250317T152153Z
LAST-MODIFIED:20250317T152153Z
UID:171-1743184800-1743195600@ctbighome.com
SUMMARY:CT Entomological Society student presentations
DESCRIPTION:Come to UConn Storrs Friday evening March 28th to hear young entomologists present on their research as well as personal hobbies regarding the fascinating world of insects and other invertebrates.   More details as to exact time and location will be posted soon.
URL:https://ctbighome.com/event/ct-entomological-society-student-presentations/
END:VEVENT
BEGIN:VEVENT
DTSTART;TZID=America/New_York:20250323T100000
DTEND;TZID=America/New_York:20250323T110000
DTSTAMP:20260423T221815
CREATED:20250317T165857Z
LAST-MODIFIED:20250317T165857Z
UID:175-1742724000-1742727600@ctbighome.com
SUMMARY:March Mushroom Madness
DESCRIPTION:The nonmember public is invited to attend the March 23\, March Mushroom Madness meeting of the CT Valley Mycological Society\, specifically the 10am – 11am presentation by outstanding naturalist and mycologist Bill Yule.  If nonmembers would like to attend the entire 9am – 2pm continental breakfast\, business meeting and luncheon – you will need to sign up as a member at the http://www.cvmsfungi.org/ website.  Details below: \nMarch 23\, March Mushroom Madness \nIndian Rock Nature Preserve\, 501 Wolcott Rd\, Bristol\, CT \nWe will be using the Indian Rock Nature Preserve location again this year for our March Mushroom Madness meeting on March 23. Doors will be open at 9am to enjoy the continental breakfast and for socialization. Our speaker will be Bill Yule\, presenting Saprobe Superstars. \nOur club business meeting follows the presentation\, and we will move over to the lunch area next for the potluck lunch and raffle. The facility has a full kitchen with refrigeration and oven/stovetop to reheat food. As with all of our club potlucks\, please label your dishes with the ingredients and your name before placing it on the table\, bring serving utensils for your dish if needed\, and wait until lunch service is called before helping yourself. Your potluck contributions do not need to contain mushrooms! \nEveryone gets a raffle ticket upon entering\, save it for the after-lunch raffle! Bring any contributions for the raffle to the dining area beforehand; there will be a table set up for them. We love any mushroom tchotchke\, or a lovely handmade item\, or anything you might think another member may enjoy. \n9:00am\, Doors open to members\, continental breakfast served \n10:00am\, Presentation \n11:30am\, Club business and 2025 officer elections \n12:00 noon\, Lunch is called \n2:00pm\, Clean up the kitchen\, volunteers appreciated
URL:https://ctbighome.com/event/march-mushroom-madness/
END:VEVENT
BEGIN:VEVENT
DTSTART;TZID=America/New_York:20250320T100000
DTEND;TZID=America/New_York:20250320T130000
DTSTAMP:20260423T221815
CREATED:20250317T175117Z
LAST-MODIFIED:20250317T175117Z
UID:181-1742464800-1742475600@ctbighome.com
SUMMARY:Vernal Equinox Hike - Franklin CT
DESCRIPTION:Spring Outdoors Kick-Off & Vernal Equinox Hike \n\n\n\n\n\n\nWhen: 3/20/2025 @ 10:00 am \n\n\n\n\n\n\nJoin TLGV Rangers Emma & Cassidy to celebrate the arrival of spring and the kick-off for Spring Outdoors! We’ll hike through the diverse habitat of the Sprague Land Preserve in Franklin CT. You’ll experience a variety of landscapes as we trek old logging roads\, hike into an old pine forest and up a ridge overlooking the Shetucket River before dropping down to hike next to the river. We’ll visit two waterfalls before heading back to our cars on this approximately 3-mile loop. We’ve spotted bald eagles\, pileated woodpeckers and seen the tracks and scat of many critters on this incredible property. Use 174 Holton Rd. on your GPS\, however\, you will see the sign for the logging road before the address. Hosted by The Last Green Valley. \n\n\n\n\n\n\nWebsite: http://www.thelastgreenvalley.org \n\n\n\n\n\n\nPhone: 860-774-3300
URL:https://ctbighome.com/event/vernal-equinox-hike-franklin-ct/
END:VEVENT
BEGIN:VEVENT
DTSTART;VALUE=DATE:20250319
DTEND;VALUE=DATE:20250321
DTSTAMP:20260423T221815
CREATED:20250311T185301Z
LAST-MODIFIED:20250311T185301Z
UID:168-1742342400-1742515199@ctbighome.com
SUMMARY:Urban Tree Conference - Branching Out Together
DESCRIPTION:March 19 @ 7:00 am – March 20 @ 4:30 pm\nBranching Out Together: Partnerships in Urban and Community Forestry\nConnecticut College 270 Mohegan Ave\, New London\, CT\, United States\n\n\nJoin the Connecticut Tree Protective Association\, the Tree Wardens’ Association of Connecticut\, and the Connecticut Urban Forest Council on March 19 and March 20 as we celebrate these partnerships and the ways that trees bring us together. Presentations will be relevant to urban foresters\, arborists\, tree wardens\, community volunteers and […]
URL:https://ctbighome.com/event/urban-tree-conference-branching-out-together/
END:VEVENT
BEGIN:VEVENT
DTSTART;TZID=America/New_York:20250318T190000
DTEND;TZID=America/New_York:20250318T203000
DTSTAMP:20260423T221815
CREATED:20250317T174555Z
LAST-MODIFIED:20250317T174555Z
UID:177-1742324400-1742329800@ctbighome.com
SUMMARY:Dark Sky Preservation - Lights\, Solutions\, Action
DESCRIPTION:Dark Sky Preservation Series\, Part II: Lights\, Solutions\, Action 3/18/2025 7:00 pm Mansfield Elementary School\, 134 Warrenville Rd\, Mansfield Center\, CT\, USA \nThis session is a field trip to see what works and what doesn’t when it comes to reducing light pollution and creating a safe and effective lighting plan. We’ll start at the elementary school where we will look at three different types of lighting and then move to the library where we will see several other types of lighting. The field trip ends at Joshua’s Trust’s Atwood Farm headquarters. Participants will drive themselves. Detailed directions will be shared at the meeting location. \nStay tuned for Dark Sky Preservation Part III: Panel Discussion\, 6 pm\, April 16\, Mansfield Public Library\, 54 Warrenville Rd.\, Mansfield\, CT. A panel of municipal leaders and others will explain how good lighting can be a community benefit. \nTo learn more about the series\, contact Carly at 860-774-3300 or email Carly@tlgv.org
URL:https://ctbighome.com/event/dark-sky-preservation-lights-solutions-action/
LOCATION:Mansfield Elementary School\, 134 Warrenville Rd\, Mansfield Center\, CT\, USA\, 134 Warrenville Road\, Mansfield Center\, CT\, United States
END:VEVENT
BEGIN:VEVENT
DTSTART;TZID=America/New_York:20250308T080000
DTEND;TZID=America/New_York:20250308T153000
DTSTAMP:20260423T221815
CREATED:20250228T011942Z
LAST-MODIFIED:20250228T011942Z
UID:49-1741420800-1741447800@ctbighome.com
SUMMARY:COA 41st Annual Meeting 2025
DESCRIPTION:Speakers\, raffle\, breakfast and lunch included.\nDetails at https://www.ctbirding.org/events/annual-meeting/
URL:https://ctbighome.com/event/coa-41st-annual-meeting-2025/
LOCATION:CT State Community College Middlesex\, 100 Training Hill Road\, Middletown\, CT\, 06457\, United States
ATTACH;FMTTYPE=image/webp:https://ctbighome.com/wp-content/uploads/2025/02/COA-Table-16x9-1.webp
END:VEVENT
END:VCALENDAR