BEGIN:VCALENDAR
VERSION:2.0
PRODID:-//CTBigHome.com - ECPv6.15.20//NONSGML v1.0//EN
CALSCALE:GREGORIAN
METHOD:PUBLISH
X-ORIGINAL-URL:https://ctbighome.com
X-WR-CALDESC:Events for CTBigHome.com
REFRESH-INTERVAL;VALUE=DURATION:PT1H
X-Robots-Tag:noindex
X-PUBLISHED-TTL:PT1H
BEGIN:VTIMEZONE
TZID:America/New_York
BEGIN:DAYLIGHT
TZOFFSETFROM:-0500
TZOFFSETTO:-0400
TZNAME:EDT
DTSTART:20240310T070000
END:DAYLIGHT
BEGIN:STANDARD
TZOFFSETFROM:-0400
TZOFFSETTO:-0500
TZNAME:EST
DTSTART:20241103T060000
END:STANDARD
BEGIN:DAYLIGHT
TZOFFSETFROM:-0500
TZOFFSETTO:-0400
TZNAME:EDT
DTSTART:20250309T070000
END:DAYLIGHT
BEGIN:STANDARD
TZOFFSETFROM:-0400
TZOFFSETTO:-0500
TZNAME:EST
DTSTART:20251102T060000
END:STANDARD
BEGIN:DAYLIGHT
TZOFFSETFROM:-0500
TZOFFSETTO:-0400
TZNAME:EDT
DTSTART:20260308T070000
END:DAYLIGHT
BEGIN:STANDARD
TZOFFSETFROM:-0400
TZOFFSETTO:-0500
TZNAME:EST
DTSTART:20261101T060000
END:STANDARD
END:VTIMEZONE
BEGIN:VEVENT
DTSTART;TZID=America/New_York:20250508T180000
DTEND;TZID=America/New_York:20250508T220000
DTSTAMP:20260424T013254
CREATED:20250228T014405Z
LAST-MODIFIED:20250228T014405Z
UID:54-1746727200-1746741600@ctbighome.com
SUMMARY:New Haven Bird Club Annual Celebration
DESCRIPTION:Join us for our Annual Banquet which will feature Frank Mantlik as speaker. Frank’s lifelong passion for birding has greatly enriched our Club and the local birding community. His popular bird walks on the Connecticut shore are always highlights\, drawing enthusiasts of all skill levels. At this year’s banquet Frank will share engaging stories and valuable insights from his decades of birding adventures. Whether you’re a novice or a seasoned bird enthusiast\, his talk is designed to inspire and deepen your appreciation for the avian world. \nFrank Mantlik’s photographic work has been showcased in prominent publications and his field discoveries are among the most notable in the state. Frank has served as President of the Connecticut Ornithological Association (COA) and currently is Chair of COA’s Avian Records Committee of Connecticut. He works closely with Connecticut Audubon and the New Haven Bird Club and is a distinguished guide for Sunrise Birding\, LLC. Join us for an inspiring evening that celebrates the joy and excitement of birding. \nDon’t miss this festive event! Watch for emails and check the NHBC Newsletter and website for information on how to make reservations and for other details.
URL:https://ctbighome.com/event/new-haven-bird-club-annual-celebration/
LOCATION:Amarante’s Sea Cliff\, Grand Ballroom\, 62 Cove Street\, New Haven\, CT\, United States
CATEGORIES:Annual Meeting
ATTACH;FMTTYPE=image/jpeg:https://ctbighome.com/wp-content/uploads/2025/02/Bird.jpg
END:VEVENT
END:VCALENDAR